Package: ComPrAn Version: 1.14.0 Command: rm -rf ComPrAn.buildbin-libdir && mkdir ComPrAn.buildbin-libdir && F:\biocbuild\bbs-3.20-bioc\R\bin\R.exe CMD INSTALL --build --library=ComPrAn.buildbin-libdir ComPrAn_1.14.0.tar.gz StartedAt: 2025-01-31 08:25:44 -0500 (Fri, 31 Jan 2025) EndedAt: 2025-01-31 08:26:08 -0500 (Fri, 31 Jan 2025) EllapsedTime: 24.5 seconds RetCode: 0 Status: OK PackageFile: ComPrAn_1.14.0.zip PackageFileSize: 2.257 MiB