Package: CoCiteStats Version: 1.78.0 Command: /home/biocbuild/bbs-3.20-bioc/R/bin/R CMD check --install=check:CoCiteStats.install-out.txt --library=/home/biocbuild/bbs-3.20-bioc/R/site-library --timings CoCiteStats_1.78.0.tar.gz StartedAt: 2025-01-30 20:59:15 -0500 (Thu, 30 Jan 2025) EndedAt: 2025-01-30 21:02:46 -0500 (Thu, 30 Jan 2025) EllapsedTime: 211.2 seconds RetCode: 0 Status: OK CheckDir: CoCiteStats.Rcheck Warnings: 0