Package: CoCiteStats Version: 1.78.0 Command: /Library/Frameworks/R.framework/Resources/bin/R CMD INSTALL CoCiteStats StartedAt: 2025-01-30 15:40:34 -0500 (Thu, 30 Jan 2025) EndedAt: 2025-01-30 15:40:49 -0500 (Thu, 30 Jan 2025) EllapsedTime: 14.8 seconds RetCode: 0 Status: OK