Package: ClustIRR Version: 1.4.0 Command: /home/biocbuild/R/R/bin/R CMD INSTALL ClustIRR StartedAt: 2025-01-30 20:39:09 -0000 (Thu, 30 Jan 2025) EndedAt: 2025-01-30 20:43:46 -0000 (Thu, 30 Jan 2025) EllapsedTime: 277.2 seconds RetCode: 0 Status: OK