Package: ClustIRR Version: 1.4.0 Command: /home/biocbuild/R/R/bin/R CMD build --keep-empty-dirs --no-resave-data ClustIRR StartedAt: 2025-01-30 22:42:29 -0000 (Thu, 30 Jan 2025) EndedAt: 2025-01-30 22:54:29 -0000 (Thu, 30 Jan 2025) EllapsedTime: 720.3 seconds RetCode: 0 Status: OK PackageFile: ClustIRR_1.4.0.tar.gz PackageFileSize: 2.536 MiB