Package: ClustIRR Version: 1.4.0 Command: F:\biocbuild\bbs-3.20-bioc\R\bin\R.exe CMD INSTALL ClustIRR StartedAt: 2025-01-30 15:49:07 -0500 (Thu, 30 Jan 2025) EndedAt: 2025-01-30 15:52:20 -0500 (Thu, 30 Jan 2025) EllapsedTime: 192.4 seconds RetCode: 0 Status: OK