Package: ClustIRR Version: 1.4.0 Command: chmod a+r ClustIRR -R && F:\biocbuild\bbs-3.20-bioc\R\bin\R.exe CMD build --keep-empty-dirs --no-resave-data ClustIRR StartedAt: 2025-01-30 18:00:30 -0500 (Thu, 30 Jan 2025) EndedAt: 2025-01-30 18:13:08 -0500 (Thu, 30 Jan 2025) EllapsedTime: 757.8 seconds RetCode: 0 Status: OK PackageFile: ClustIRR_1.4.0.tar.gz PackageFileSize: 2.244 MiB