Package: ClustIRR Version: 1.4.0 Command: rm -rf ClustIRR.buildbin-libdir && mkdir ClustIRR.buildbin-libdir && F:\biocbuild\bbs-3.20-bioc\R\bin\R.exe CMD INSTALL --build --library=ClustIRR.buildbin-libdir ClustIRR_1.4.0.tar.gz StartedAt: 2025-01-31 08:23:51 -0500 (Fri, 31 Jan 2025) EndedAt: 2025-01-31 08:31:23 -0500 (Fri, 31 Jan 2025) EllapsedTime: 452.1 seconds RetCode: 0 Status: OK PackageFile: ClustIRR_1.4.0.zip PackageFileSize: 3.333 MiB