Package: ClustIRR Version: 1.4.0 Command: /Library/Frameworks/R.framework/Resources/bin/R CMD check --install=check:ClustIRR.install-out.txt --library=/Library/Frameworks/R.framework/Resources/library --no-vignettes --timings ClustIRR_1.4.0.tar.gz StartedAt: 2024-11-19 20:40:31 -0500 (Tue, 19 Nov 2024) EndedAt: 2024-11-19 20:52:55 -0500 (Tue, 19 Nov 2024) EllapsedTime: 744.3 seconds RetCode: 0 Status: OK CheckDir: ClustIRR.Rcheck Warnings: 0