Package: Clomial Version: 1.42.0 Command: /home/biocbuild/R/R/bin/R CMD INSTALL Clomial StartedAt: 2025-01-30 20:09:05 -0000 (Thu, 30 Jan 2025) EndedAt: 2025-01-30 20:09:37 -0000 (Thu, 30 Jan 2025) EllapsedTime: 31.4 seconds RetCode: 0 Status: OK