Package: CiteFuse Version: 1.18.0 Command: /Library/Frameworks/R.framework/Resources/bin/R CMD check --install=check:CiteFuse.install-out.txt --library=/Library/Frameworks/R.framework/Resources/library --no-vignettes --timings CiteFuse_1.18.0.tar.gz StartedAt: 2025-01-31 14:28:56 -0500 (Fri, 31 Jan 2025) EndedAt: 2025-01-31 14:34:14 -0500 (Fri, 31 Jan 2025) EllapsedTime: 318.8 seconds RetCode: 0 Status: OK CheckDir: CiteFuse.Rcheck Warnings: 0