Package: CircSeqAlignTk Version: 1.8.0 Command: /home/biocbuild/R/R/bin/R CMD INSTALL CircSeqAlignTk StartedAt: 2025-01-30 20:41:33 -0000 (Thu, 30 Jan 2025) EndedAt: 2025-01-30 20:42:25 -0000 (Thu, 30 Jan 2025) EllapsedTime: 52.0 seconds RetCode: 0 Status: OK