Package: CircSeqAlignTk Version: 1.8.0 Command: /home/biocbuild/R/R/bin/R CMD build --keep-empty-dirs --no-resave-data CircSeqAlignTk StartedAt: 2025-01-30 22:37:42 -0000 (Thu, 30 Jan 2025) EndedAt: 2025-01-30 22:40:49 -0000 (Thu, 30 Jan 2025) EllapsedTime: 186.5 seconds RetCode: 0 Status: OK PackageFile: CircSeqAlignTk_1.8.0.tar.gz PackageFileSize: 1.57 MiB