Package: ChromSCape Version: 1.16.0 Command: /home/biocbuild/R/R/bin/R CMD INSTALL ChromSCape StartedAt: 2025-01-30 21:07:57 -0000 (Thu, 30 Jan 2025) EndedAt: 2025-01-30 21:09:02 -0000 (Thu, 30 Jan 2025) EllapsedTime: 65.0 seconds RetCode: 0 Status: OK