Package: ChromSCape Version: 1.16.0 Command: chmod a+r ChromSCape -R && F:\biocbuild\bbs-3.20-bioc\R\bin\R.exe CMD build --keep-empty-dirs --no-resave-data ChromSCape StartedAt: 2025-01-30 17:55:23 -0500 (Thu, 30 Jan 2025) EndedAt: 2025-01-30 17:57:28 -0500 (Thu, 30 Jan 2025) EllapsedTime: 125.8 seconds RetCode: 0 Status: OK PackageFile: ChromSCape_1.16.0.tar.gz PackageFileSize: 5.302 MiB