Package: ChromSCape Version: 1.16.0 Command: rm -rf ChromSCape.buildbin-libdir && mkdir ChromSCape.buildbin-libdir && F:\biocbuild\bbs-3.20-bioc\R\bin\R.exe CMD INSTALL --build --library=ChromSCape.buildbin-libdir ChromSCape_1.16.0.tar.gz StartedAt: 2025-01-31 08:21:52 -0500 (Fri, 31 Jan 2025) EndedAt: 2025-01-31 08:24:23 -0500 (Fri, 31 Jan 2025) EllapsedTime: 151.1 seconds RetCode: 0 Status: OK PackageFile: ChromSCape_1.16.0.zip PackageFileSize: 6.11 MiB