Package: ChromSCape Version: 1.16.0 Command: /home/biocbuild/bbs-3.20-bioc/R/bin/R CMD check --install=check:ChromSCape.install-out.txt --library=/home/biocbuild/bbs-3.20-bioc/R/site-library --timings ChromSCape_1.16.0.tar.gz StartedAt: 2025-01-30 20:47:51 -0500 (Thu, 30 Jan 2025) EndedAt: 2025-01-30 20:59:35 -0500 (Thu, 30 Jan 2025) EllapsedTime: 703.8 seconds RetCode: 0 Status: WARNINGS CheckDir: ChromSCape.Rcheck Warnings: 3