Package: ChromHeatMap Version: 1.60.0 Command: chmod a+r ChromHeatMap -R && F:\biocbuild\bbs-3.20-bioc\R\bin\R.exe CMD build --keep-empty-dirs --no-resave-data ChromHeatMap StartedAt: 2025-01-30 17:55:03 -0500 (Thu, 30 Jan 2025) EndedAt: 2025-01-30 17:56:11 -0500 (Thu, 30 Jan 2025) EllapsedTime: 67.7 seconds RetCode: 0 Status: OK PackageFile: ChromHeatMap_1.60.0.tar.gz PackageFileSize: 217 KiB