Package: ChromHeatMap Version: 1.60.0 Command: /Library/Frameworks/R.framework/Resources/bin/R CMD INSTALL ChromHeatMap StartedAt: 2025-01-30 15:59:56 -0500 (Thu, 30 Jan 2025) EndedAt: 2025-01-30 16:00:37 -0500 (Thu, 30 Jan 2025) EllapsedTime: 40.4 seconds RetCode: 0 Status: OK