Package: Chicago Version: 1.34.0 Command: /home/biocbuild/R/R/bin/R CMD check --install=check:Chicago.install-out.txt --library=/home/biocbuild/R/R/site-library --no-vignettes --timings Chicago_1.34.0.tar.gz StartedAt: 2025-01-31 04:50:03 -0000 (Fri, 31 Jan 2025) EndedAt: 2025-01-31 04:51:50 -0000 (Fri, 31 Jan 2025) EllapsedTime: 107.1 seconds RetCode: 0 Status: OK CheckDir: Chicago.Rcheck Warnings: 0