Package: Chicago Version: 1.34.0 Command: rm -rf Chicago.buildbin-libdir && mkdir Chicago.buildbin-libdir && F:\biocbuild\bbs-3.20-bioc\R\bin\R.exe CMD INSTALL --build --library=Chicago.buildbin-libdir Chicago_1.34.0.tar.gz StartedAt: 2025-01-31 08:20:52 -0500 (Fri, 31 Jan 2025) EndedAt: 2025-01-31 08:21:28 -0500 (Fri, 31 Jan 2025) EllapsedTime: 36.3 seconds RetCode: 0 Status: OK PackageFile: Chicago_1.34.0.zip PackageFileSize: 1.023 MiB