Package: ChIPpeakAnno Version: 3.40.0 Command: /home/biocbuild/R/R/bin/R CMD build --keep-empty-dirs --no-resave-data ChIPpeakAnno StartedAt: 2025-01-30 22:33:30 -0000 (Thu, 30 Jan 2025) EndedAt: 2025-01-30 22:55:54 -0000 (Thu, 30 Jan 2025) EllapsedTime: 1344.0 seconds RetCode: 0 Status: OK PackageFile: ChIPpeakAnno_3.40.0.tar.gz PackageFileSize: 19.76 MiB