Package: ChIPpeakAnno Version: 3.40.0 Command: /home/biocbuild/bbs-3.20-bioc/R/bin/R CMD INSTALL ChIPpeakAnno StartedAt: 2025-01-30 15:47:37 -0500 (Thu, 30 Jan 2025) EndedAt: 2025-01-30 15:49:41 -0500 (Thu, 30 Jan 2025) EllapsedTime: 123.3 seconds RetCode: 0 Status: OK