Package: ChIPpeakAnno Version: 3.40.0 Command: /Library/Frameworks/R.framework/Resources/bin/R CMD build --keep-empty-dirs --no-resave-data ChIPpeakAnno StartedAt: 2025-01-30 20:36:50 -0500 (Thu, 30 Jan 2025) EndedAt: 2025-01-30 20:56:58 -0500 (Thu, 30 Jan 2025) EllapsedTime: 1208.1 seconds RetCode: 0 Status: OK PackageFile: ChIPpeakAnno_3.40.0.tar.gz PackageFileSize: 21.47 MiB