Package: ChIPpeakAnno Version: 3.40.0 Command: rm -rf ChIPpeakAnno.buildbin-libdir && mkdir ChIPpeakAnno.buildbin-libdir && /Users/biocbuild/BBS/utils/build-universal.sh ChIPpeakAnno_3.40.0.tar.gz /Library/Frameworks/R.framework/Resources/bin/R ChIPpeakAnno.buildbin-libdir StartedAt: 2025-02-01 14:16:54 -0500 (Sat, 01 Feb 2025) EndedAt: 2025-02-01 14:19:42 -0500 (Sat, 01 Feb 2025) EllapsedTime: 168.1 seconds RetCode: 0 Status: OK PackageFile: ChIPpeakAnno_3.40.0.tgz PackageFileSize: 22.58 MiB