Package: ChIPexoQual Version: 1.30.0 Command: /home/biocbuild/R/R/bin/R CMD build --keep-empty-dirs --no-resave-data ChIPexoQual StartedAt: 2025-01-30 22:33:13 -0000 (Thu, 30 Jan 2025) EndedAt: 2025-01-30 22:36:05 -0000 (Thu, 30 Jan 2025) EllapsedTime: 172.0 seconds RetCode: 0 Status: OK PackageFile: ChIPexoQual_1.30.0.tar.gz PackageFileSize: 2.168 MiB