Package: ChIPexoQual Version: 1.30.0 Command: rm -rf ChIPexoQual.buildbin-libdir && mkdir ChIPexoQual.buildbin-libdir && /Users/biocbuild/BBS/utils/build-universal.sh ChIPexoQual_1.30.0.tar.gz /Library/Frameworks/R.framework/Resources/bin/R ChIPexoQual.buildbin-libdir StartedAt: 2025-01-31 12:30:28 -0500 (Fri, 31 Jan 2025) EndedAt: 2025-01-31 12:32:03 -0500 (Fri, 31 Jan 2025) EllapsedTime: 95.5 seconds RetCode: 0 Status: OK PackageFile: ChIPexoQual_1.30.0.tgz PackageFileSize: 2.52 MiB