Package: ChIPexoQual Version: 1.30.0 Command: /Library/Frameworks/R.framework/Resources/bin/R CMD INSTALL ChIPexoQual StartedAt: 2025-01-30 16:44:02 -0500 (Thu, 30 Jan 2025) EndedAt: 2025-01-30 16:44:54 -0500 (Thu, 30 Jan 2025) EllapsedTime: 52.6 seconds RetCode: 0 Status: OK