Package: ChIPexoQual Version: 1.30.0 Command: rm -rf ChIPexoQual.buildbin-libdir && mkdir ChIPexoQual.buildbin-libdir && /Users/biocbuild/BBS/utils/build-universal.sh ChIPexoQual_1.30.0.tar.gz /Library/Frameworks/R.framework/Resources/bin/R ChIPexoQual.buildbin-libdir StartedAt: 2025-02-01 14:16:35 -0500 (Sat, 01 Feb 2025) EndedAt: 2025-02-01 14:17:29 -0500 (Sat, 01 Feb 2025) EllapsedTime: 53.6 seconds RetCode: 0 Status: OK PackageFile: ChIPexoQual_1.30.0.tgz PackageFileSize: 2.518 MiB