Package: ChIPanalyser Version: 1.28.0 Command: /Library/Frameworks/R.framework/Resources/bin/R CMD build --keep-empty-dirs --no-resave-data ChIPanalyser StartedAt: 2025-01-30 20:35:31 -0500 (Thu, 30 Jan 2025) EndedAt: 2025-01-30 20:54:26 -0500 (Thu, 30 Jan 2025) EllapsedTime: 1135.0 seconds RetCode: 0 Status: OK PackageFile: ChIPanalyser_1.28.0.tar.gz PackageFileSize: 1.037 MiB