Package: ChIPXpress Version: 1.50.0 Command: /Library/Frameworks/R.framework/Resources/bin/R CMD build --keep-empty-dirs --no-resave-data ChIPXpress StartedAt: 2025-01-30 20:42:25 -0500 (Thu, 30 Jan 2025) EndedAt: 2025-01-30 20:43:26 -0500 (Thu, 30 Jan 2025) EllapsedTime: 60.7 seconds RetCode: 0 Status: OK PackageFile: ChIPXpress_1.50.0.tar.gz PackageFileSize: 447.4 KiB