Package: ChIPXpress Version: 1.50.0 Command: rm -rf ChIPXpress.buildbin-libdir && mkdir ChIPXpress.buildbin-libdir && /Users/biocbuild/BBS/utils/build-universal.sh ChIPXpress_1.50.0.tar.gz /Library/Frameworks/R.framework/Resources/bin/R ChIPXpress.buildbin-libdir StartedAt: 2025-02-01 14:17:49 -0500 (Sat, 01 Feb 2025) EndedAt: 2025-02-01 14:18:28 -0500 (Sat, 01 Feb 2025) EllapsedTime: 39.5 seconds RetCode: 0 Status: OK PackageFile: ChIPXpress_1.50.0.tgz PackageFileSize: 470.4 KiB