Package: CexoR Version: 1.44.0 Command: F:\biocbuild\bbs-3.20-bioc\R\bin\R.exe CMD check --no-multiarch --install=check:CexoR.install-out.txt --library=F:\biocbuild\bbs-3.20-bioc\R\library --no-vignettes --timings CexoR_1.44.0.tar.gz StartedAt: 2025-01-31 00:23:11 -0500 (Fri, 31 Jan 2025) EndedAt: 2025-01-31 00:29:07 -0500 (Fri, 31 Jan 2025) EllapsedTime: 355.7 seconds RetCode: 0 Status: OK CheckDir: CexoR.Rcheck Warnings: 0