Package: CexoR Version: 1.44.0 Command: chmod a+r CexoR -R && F:\biocbuild\bbs-3.20-bioc\R\bin\R.exe CMD build --keep-empty-dirs --no-resave-data CexoR StartedAt: 2025-01-30 17:50:54 -0500 (Thu, 30 Jan 2025) EndedAt: 2025-01-30 17:52:11 -0500 (Thu, 30 Jan 2025) EllapsedTime: 76.7 seconds RetCode: 0 Status: OK PackageFile: CexoR_1.44.0.tar.gz PackageFileSize: 1.661 MiB