Package: CexoR Version: 1.44.0 Command: /Library/Frameworks/R.framework/Resources/bin/R CMD INSTALL CexoR StartedAt: 2025-01-30 16:07:44 -0500 (Thu, 30 Jan 2025) EndedAt: 2025-01-30 16:08:27 -0500 (Thu, 30 Jan 2025) EllapsedTime: 43.4 seconds RetCode: 0 Status: OK