Package: CelliD Version: 1.14.0 Command: /home/biocbuild/R/R/bin/R CMD check --install=check:CelliD.install-out.txt --library=/home/biocbuild/R/R/site-library --no-vignettes --timings CelliD_1.14.0.tar.gz StartedAt: 2025-01-31 04:43:55 -0000 (Fri, 31 Jan 2025) EndedAt: 2025-01-31 04:50:28 -0000 (Fri, 31 Jan 2025) EllapsedTime: 393.3 seconds RetCode: 0 Status: WARNINGS CheckDir: CelliD.Rcheck Warnings: 1