Package: CellTrails Version: 1.24.0 Command: F:\biocbuild\bbs-3.20-bioc\R\bin\R.exe CMD INSTALL CellTrails StartedAt: 2025-01-30 16:03:16 -0500 (Thu, 30 Jan 2025) EndedAt: 2025-01-30 16:05:00 -0500 (Thu, 30 Jan 2025) EllapsedTime: 103.9 seconds RetCode: 0 Status: OK