Package: CellTrails Version: 1.24.0 Command: F:\biocbuild\bbs-3.20-bioc\R\bin\R.exe CMD check --no-multiarch --install=check:CellTrails.install-out.txt --library=F:\biocbuild\bbs-3.20-bioc\R\library --no-vignettes --timings CellTrails_1.24.0.tar.gz StartedAt: 2025-01-31 00:21:20 -0500 (Fri, 31 Jan 2025) EndedAt: 2025-01-31 00:26:16 -0500 (Fri, 31 Jan 2025) EllapsedTime: 295.7 seconds RetCode: 0 Status: OK CheckDir: CellTrails.Rcheck Warnings: 0