Package: CellTrails Version: 1.24.0 Command: chmod a+r CellTrails -R && F:\biocbuild\bbs-3.20-bioc\R\bin\R.exe CMD build --keep-empty-dirs --no-resave-data CellTrails StartedAt: 2025-01-30 17:49:26 -0500 (Thu, 30 Jan 2025) EndedAt: 2025-01-30 17:50:53 -0500 (Thu, 30 Jan 2025) EllapsedTime: 86.6 seconds RetCode: 0 Status: OK PackageFile: CellTrails_1.24.0.tar.gz PackageFileSize: 2.629 MiB