Package: CellMapper Version: 1.32.0 Command: /home/biocbuild/R/R/bin/R CMD INSTALL CellMapper StartedAt: 2025-01-30 20:09:18 -0000 (Thu, 30 Jan 2025) EndedAt: 2025-01-30 20:09:45 -0000 (Thu, 30 Jan 2025) EllapsedTime: 26.7 seconds RetCode: 0 Status: OK