Package: CellMapper Version: 1.32.0 Command: /home/biocbuild/R/R/bin/R CMD check --install=check:CellMapper.install-out.txt --library=/home/biocbuild/R/R/site-library --no-vignettes --timings CellMapper_1.32.0.tar.gz StartedAt: 2025-01-31 04:45:01 -0000 (Fri, 31 Jan 2025) EndedAt: 2025-01-31 04:52:15 -0000 (Fri, 31 Jan 2025) EllapsedTime: 434.4 seconds RetCode: 0 Status: WARNINGS CheckDir: CellMapper.Rcheck Warnings: 1