Package: CellMapper Version: 1.32.0 Command: /home/biocbuild/bbs-3.20-bioc/R/bin/R CMD INSTALL CellMapper StartedAt: 2025-01-30 15:06:58 -0500 (Thu, 30 Jan 2025) EndedAt: 2025-01-30 15:07:12 -0500 (Thu, 30 Jan 2025) EllapsedTime: 14.0 seconds RetCode: 0 Status: OK