Package: CellMapper Version: 1.32.0 Command: rm -rf CellMapper.buildbin-libdir && mkdir CellMapper.buildbin-libdir && /Users/biocbuild/BBS/utils/build-universal.sh CellMapper_1.32.0.tar.gz /Library/Frameworks/R.framework/Resources/bin/R CellMapper.buildbin-libdir StartedAt: 2025-02-01 14:13:51 -0500 (Sat, 01 Feb 2025) EndedAt: 2025-02-01 14:13:59 -0500 (Sat, 01 Feb 2025) EllapsedTime: 7.9 seconds RetCode: 0 Status: OK PackageFile: CellMapper_1.32.0.tgz PackageFileSize: 345.1 KiB