Package: Cardinal Version: 3.8.3 Command: /home/biocbuild/R/R/bin/R CMD INSTALL Cardinal StartedAt: 2025-01-30 20:39:03 -0000 (Thu, 30 Jan 2025) EndedAt: 2025-01-30 20:39:36 -0000 (Thu, 30 Jan 2025) EllapsedTime: 33.0 seconds RetCode: 0 Status: OK