Package: Cardinal Version: 3.8.3 Command: chmod a+r Cardinal -R && F:\biocbuild\bbs-3.20-bioc\R\bin\R.exe CMD build --keep-empty-dirs --no-resave-data Cardinal StartedAt: 2025-01-30 17:44:04 -0500 (Thu, 30 Jan 2025) EndedAt: 2025-01-30 17:53:36 -0500 (Thu, 30 Jan 2025) EllapsedTime: 571.6 seconds RetCode: 0 Status: OK PackageFile: Cardinal_3.8.3.tar.gz PackageFileSize: 1.883 MiB