Package: Cardinal Version: 3.8.3 Command: rm -rf Cardinal.buildbin-libdir && mkdir Cardinal.buildbin-libdir && F:\biocbuild\bbs-3.20-bioc\R\bin\R.exe CMD INSTALL --build --library=Cardinal.buildbin-libdir Cardinal_3.8.3.tar.gz StartedAt: 2025-01-31 08:18:04 -0500 (Fri, 31 Jan 2025) EndedAt: 2025-01-31 08:20:55 -0500 (Fri, 31 Jan 2025) EllapsedTime: 170.4 seconds RetCode: 0 Status: OK PackageFile: Cardinal_3.8.3.zip PackageFileSize: 3.368 MiB