Package: CaDrA Version: 1.4.0 Command: /Library/Frameworks/R.framework/Resources/bin/R CMD check --install=check:CaDrA.install-out.txt --library=/Library/Frameworks/R.framework/Resources/library --no-vignettes --timings CaDrA_1.4.0.tar.gz StartedAt: 2025-01-31 01:08:20 -0500 (Fri, 31 Jan 2025) EndedAt: 2025-01-31 01:21:59 -0500 (Fri, 31 Jan 2025) EllapsedTime: 819.3 seconds RetCode: 0 Status: OK CheckDir: CaDrA.Rcheck Warnings: 0