Package: CaDrA Version: 1.4.0 Command: /Library/Frameworks/R.framework/Resources/bin/R CMD build --keep-empty-dirs --no-resave-data CaDrA StartedAt: 2025-01-30 20:03:43 -0500 (Thu, 30 Jan 2025) EndedAt: 2025-01-30 20:06:31 -0500 (Thu, 30 Jan 2025) EllapsedTime: 167.5 seconds RetCode: 0 Status: OK PackageFile: CaDrA_1.4.0.tar.gz PackageFileSize: 2.491 MiB