Package: CSSQ Version: 1.18.0 Command: /home/biocbuild/bbs-3.20-bioc/R/bin/R CMD check --install=check:CSSQ.install-out.txt --library=/home/biocbuild/bbs-3.20-bioc/R/site-library --timings CSSQ_1.18.0.tar.gz StartedAt: 2025-01-30 21:14:58 -0500 (Thu, 30 Jan 2025) EndedAt: 2025-01-30 21:19:23 -0500 (Thu, 30 Jan 2025) EllapsedTime: 265.2 seconds RetCode: 0 Status: OK CheckDir: CSSQ.Rcheck Warnings: 0