Package: CRISPRseek Version: 1.46.0 Command: /home/biocbuild/bbs-3.20-bioc/R/bin/R CMD check --install=check:CRISPRseek.install-out.txt --library=/home/biocbuild/bbs-3.20-bioc/R/site-library --timings CRISPRseek_1.46.0.tar.gz StartedAt: 2025-01-30 21:12:19 -0500 (Thu, 30 Jan 2025) EndedAt: 2025-01-30 21:41:59 -0500 (Thu, 30 Jan 2025) EllapsedTime: 1780.7 seconds RetCode: 0 Status: OK CheckDir: CRISPRseek.Rcheck Warnings: 0